BEGIN:VCALENDAR
VERSION:2.0
PRODID:-//Play Patrol Company - ECPv6.15.20//NONSGML v1.0//EN
CALSCALE:GREGORIAN
METHOD:PUBLISH
X-WR-CALNAME:Play Patrol Company
X-ORIGINAL-URL:https://playpatrolcompany.com
X-WR-CALDESC:Events for Play Patrol Company
REFRESH-INTERVAL;VALUE=DURATION:PT1H
X-Robots-Tag:noindex
X-PUBLISHED-TTL:PT1H
BEGIN:VTIMEZONE
TZID:UTC
BEGIN:STANDARD
TZOFFSETFROM:+0000
TZOFFSETTO:+0000
TZNAME:UTC
DTSTART:20250101T000000
END:STANDARD
END:VTIMEZONE
BEGIN:VEVENT
DTSTART;TZID=UTC:20260507T153000
DTEND;TZID=UTC:20260507T161500
DTSTAMP:20260421T204025
CREATED:20260403T170404Z
LAST-MODIFIED:20260403T170404Z
UID:40293-1778167800-1778170500@playpatrolcompany.com
SUMMARY:Unearth the Beat with Mister Boom Boom
DESCRIPTION:Join us for a musical journey across Asia and the Pacific Islands! Unearth the Beat introduces children to the fascinating world of percussion instruments from China\, Japan\, and other countries throughout the region. Through engaging storytelling and hands-on exploration\, students will discover the origins\, sounds\, and cultural significance of each instrument. Best of all\, every child will have the chance to play the instruments during and after the show\, creating an unforgettable celebration of music\, culture\, and creativity.
URL:https://playpatrolcompany.com/event/unearth-the-beat-with-mister-boom-boom-3/
LOCATION:South Plainfield Public Library\, 2484 Plainfield Ave\, South Plainfield\, NJ\, 07080\, United States
ATTACH;FMTTYPE=image/jpeg:https://playpatrolcompany.com/wp-content/uploads/2022/08/MBB-Website-Pic-2048x1152-1.jpeg
END:VEVENT
BEGIN:VEVENT
DTSTART;TZID=UTC:20260515T100000
DTEND;TZID=UTC:20260515T104500
DTSTAMP:20260421T204025
CREATED:20251219T174035Z
LAST-MODIFIED:20260313T192002Z
UID:40003-1778839200-1778841900@playpatrolcompany.com
SUMMARY:Bilingual Beats with Mister Boom Boom
DESCRIPTION:¡Bienvenidos! Get ready for a joyful\, interactive musical adventure that brings Spanish music and language to life for you and your little ones! Our engaging program is specially designed for parents\, toddlers\, and young children to explore the vibrant rhythms of Latin music while naturally developing language skills in both English and Spanish. \nThrough singing\, dancing\, and hands-on musical fun\, your family will experience the magic of bilingual learning in an exciting and supportive environment. Don’t miss this unforgettable opportunity to bond\, play\, and grow together—join us and let the music lead the way!
URL:https://playpatrolcompany.com/event/bilingual-beats-with-miss-noelia-10/
LOCATION:Media Upper Providence Free Library\, 1 E Front St\, Media\, PA\, 19063\, United States
ATTACH;FMTTYPE=image/jpeg:https://playpatrolcompany.com/wp-content/uploads/2022/08/MBB-Website-Pic-2048x1152-1.jpeg
END:VEVENT
BEGIN:VEVENT
DTSTART;TZID=UTC:20260619T100000
DTEND;TZID=UTC:20260619T104500
DTSTAMP:20260421T204025
CREATED:20260127T151027Z
LAST-MODIFIED:20260127T151027Z
UID:40087-1781863200-1781865900@playpatrolcompany.com
SUMMARY:Unearth the Beat with Mister Boom Boom
DESCRIPTION:Join us for a musical journey across Asia and the Pacific Islands! Unearth the Beat introduces children to the fascinating world of percussion instruments from China\, Japan\, and other countries throughout the region. Through engaging storytelling and hands-on exploration\, students will discover the origins\, sounds\, and cultural significance of each instrument. Best of all\, every child will have the chance to play the instruments during and after the show\, creating an unforgettable celebration of music\, culture\, and creativity.
URL:https://playpatrolcompany.com/event/unearth-the-beat-with-mister-boom-boom-2/
LOCATION:Schuylkill Valley Community Library\, 1310 Washington Rd\, Leesport\, PA\, 19533\, United States
ATTACH;FMTTYPE=image/jpeg:https://playpatrolcompany.com/wp-content/uploads/2022/08/MBB-Website-Pic-2048x1152-1.jpeg
END:VEVENT
BEGIN:VEVENT
DTSTART;TZID=UTC:20260708T183000
DTEND;TZID=UTC:20260708T191500
DTSTAMP:20260421T204025
CREATED:20251216T000012Z
LAST-MODIFIED:20251216T000012Z
UID:39996-1783535400-1783538100@playpatrolcompany.com
SUMMARY:Unearth the Beat with Mister Boom Boom
DESCRIPTION:Join us for a musical journey across Asia and the Pacific Islands! Unearth the Beat introduces children to the fascinating world of percussion instruments from China\, Japan\, and other countries throughout the region. Through engaging storytelling and hands-on exploration\, students will discover the origins\, sounds\, and cultural significance of each instrument. Best of all\, every child will have the chance to play the instruments during and after the show\, creating an unforgettable celebration of music\, culture\, and creativity.
URL:https://playpatrolcompany.com/event/unearth-the-beat-with-mister-boom-boom/
LOCATION:Indian Valley Public Library\, 100 Church Ave\, Telford\, PA\, 18969\, United States
ATTACH;FMTTYPE=image/jpeg:https://playpatrolcompany.com/wp-content/uploads/2022/08/MBB-Website-Pic-2048x1152-1.jpeg
END:VEVENT
BEGIN:VEVENT
DTSTART;TZID=UTC:20260711T110000
DTEND;TZID=UTC:20260711T114500
DTSTAMP:20260421T204025
CREATED:20251216T000408Z
LAST-MODIFIED:20251216T000408Z
UID:40001-1783767600-1783770300@playpatrolcompany.com
SUMMARY:Bilingual Beats with Miss Noelia
DESCRIPTION:¡Bienvenidos! Get ready for a joyful\, interactive musical adventure that brings Spanish music and language to life for you and your little ones! Our engaging program is specially designed for parents\, toddlers\, and young children to explore the vibrant rhythms of Latin music while naturally developing language skills in both English and Spanish. \nThrough singing\, dancing\, and hands-on musical fun\, your family will experience the magic of bilingual learning in an exciting and supportive environment. Don’t miss this unforgettable opportunity to bond\, play\, and grow together—join us and let the music lead the way!
URL:https://playpatrolcompany.com/event/bilingual-beats-with-miss-noelia-7/
LOCATION:Indian Valley Public Library\, 100 Church Ave\, Telford\, PA\, 18969\, United States
ATTACH;FMTTYPE=image/jpeg:https://playpatrolcompany.com/wp-content/uploads/2025/01/untitled-8931-scaled.jpg
END:VEVENT
BEGIN:VEVENT
DTSTART;TZID=UTC:20260714T103000
DTEND;TZID=UTC:20260714T111500
DTSTAMP:20260421T204025
CREATED:20251212T013149Z
LAST-MODIFIED:20251212T013149Z
UID:39997-1784025000-1784027700@playpatrolcompany.com
SUMMARY:African Drum Circle with Mister Boom Boom
DESCRIPTION:Step into the circle and feel the beat in Mister Boom Boom’s African Drum Circle\, an immersive\, hands-on musical journey that brings the power and spirit of African drumming to life—while connecting its influence to rhythms and instruments from around the world. \nThis high-energy program centers around the djembe\, the heart of West African rhythm\, and expands to include a dynamic collection of global percussion instruments\, including bongos\, cajon\, and more\, that trace their roots back to African traditions.
URL:https://playpatrolcompany.com/event/african-drum-circle-with-mister-boom-boom-89/
LOCATION:Wissahickon Valley Public LIbrary – Ambler\, 209 Race Street\, Ambler\, PA\, 19002\, United States
ATTACH;FMTTYPE=image/jpeg:https://playpatrolcompany.com/wp-content/uploads/2022/08/MBB-Website-Pic-2048x1152-1.jpeg
END:VEVENT
END:VCALENDAR